Workbook

Sheet Annexure-I
A1: SHAREHOLDING PATTERN
A2: 1 | B2: Name of Listed Entity: | D2: ANNA INFRASTRUCTURES LIMITED
A3: 2 | B3: Scrip Code/Name of Scrip/Class of Security | D3: Equity
A4: 3 | B4: Share Holding Pattern Filed under: Reg. 31(1)(a)/Reg. 31(1)(b)/Reg.31(1)(c ) | D4: Reg.31(1)(b)
B5: a. | C5: If under 31(1)(b) then indicate the report for Quarter ending | D5: 31St March, 2026
B6: b. | C6: If under 31(1)(c) then indicate date of allotment/extinguishment
A7: 4 | B7: Declaration: The Listed entity is required to submit the following declaration to the extent of submission of information:-
B8: Particulars | E8: Yes* | F8: No*
B9: 1 | C9: Whether the Listed Entity has issued any partly paid up shares? | E9: =IF('TABLE-I'!$E$14>0,"Yes","") | F9: =IF('TABLE-I'!$E$14>0,"","No") -> No
B10: 2 | C10: Whether the Listed Entity has issued any Convertible Securities or Warrants? | E10: =IF('TABLE-I'!$M$14>0,"Yes","") | F10: =IF('TABLE-I'!$M$14>0,"","No") -> No
B11: 3 | C11: Whether the Listed Entity has any shares against which depository receipts are issued? | E11: =IF('TABLE-I'!$D$11>0,"Yes","") | F11: =IF('TABLE-I'!$D$11>0,"","No") -> No
B12: 4 | C12: Whether the Listed Entity has any shares in locked-in? | E12: =IF('TABLE-I'!$P$14>0,"Yes","") | F12: =IF('TABLE-I'!$P$14>0,"","No") -> No
B13: 5 | C13: Whether any shares held by promoters are pledge or otherwise encumbered? | E13: =IF('TABLE-I'!$R$8>0,"Yes","") | F13: =IF('TABLE-I'!$R$8>0,"","No") -> No

Sheet TABLE-I
A1: =IF('Annexure-I'!$D$2="","",'Annexure-I'!$D$2) -> ANNA INFRASTRUCTURES LIMITED
A2: ="SHAREHOLDING PATTERN AS ON " &'Annexure-I'!$D$5 -> SHAREHOLDING PATTERN AS ON 31St March, 2026
A3: Table - I Summary Statement holding of specified securities
A5: Category (I) | B5: Category of shareholder (II) | C5: No. of shareh older (III) | D5: No. of fully paid up equity shares held (IV) | E5: Partly paid- up equity shares held (V) | F5: No. of shares underlyi ng Deposit ory Receipts (VI) | G5: Total no. shares held (VII) = (IV)+(V) +(VI) | H5: Shareholdi ng as a % of total no. of shares (calculated as per SCRR, 1957) As a % of (A+B+C2) (VIII) | I5: Number of Voting Rights held in each class of securities (IX) | M5: No. of Shares Underlying Outstan ding convertible securities (including Warrants, ESOP etc.) (X) | N5: Total No of shares on fully diluted basis (including warrants, ESOP, Convertibl e Securities etc.) (XI)=(VII+X) | O5: Shareholdi ng, as a % assuming full conversion of convertible securities (as a percentage of diluted share capital) (XII) = (VII)+(X) As a % of (A+B+C2) | P5: Number of Locked in shares (XIII) | R5: Number of Shares pledged (XIV) | T5: Non- Disposal Undertaking (XV) | V5: Other encumbrances, if any (XVI) | X5: Total Number of Shares encumbered (XVII) = (XIV+XV+XVI) | Z5: Number of equity shares held in dematerialized form (XVIII)
I6: No of Voting Rights | L6: Total as a % of (A+B +C)
I7: Class eg: X | J7: Class eg: Y | K7: Total | P7: No. (a) | Q7: As a % of total Shares held (b) | R7: No. (a) | S7: As a % of total shares held (b) | T7: No (a) | U7: As a % of total shar es held (b) | V7: No (a) | W7: As a % of total shares held (b) | X7: N o ( a ) | Y7: As a % of total shares held (b)
A8: (A) | B8: Promoter & Promoter Group | C8: 29 | D8: 2781298 | E8: 0 | F8: 0 | G8: 2781298 | H8: 73.1921 | I8: 2781298 | J8: 0 | K8: 2781298 | L8: 73.1921 | M8: 0 | N8: 2781298 | O8: 73.1921 | P8: 0 | Q8: 0 | R8: 0 | S8: 0 | T8: 0 | U8: 0 | V8: 0 | W8: 0 | X8: 0 | Y8: 0 | Z8: 2781298
A9: (B) | B9: Public | C9: 1159 | D9: 1018702 | E9: 0 | F9: 0 | G9: 1018702 | H9: 26.8079 | I9: 1018702 | J9: 0 | K9: 1018702 | L9: 26.8079 | M9: 0 | N9: 1018702 | O9: 26.8079 | P9: 0 | Q9: 0 | R9: 3025 | S9: 0.2969 | T9: 0 | U9: 0 | V9: 0 | W9: 0 | X9: 0 | Y9: 0 | Z9: 795065
A10: (C) | B10: Non Promoter - Non Public | C10: 0 | D10: 0 | E10: 0 | F10: 0 | G10: 0 | H10: 0 | I10: 0 | J10: 0 | K10: 0 | L10: 0 | M10: 0 | N10: 0 | O10: 0 | P10: 0 | Q10: 0 | R10: 0 | S10: 0 | T10: 0 | U10: 0 | V10: 0 | W10: 0 | X10: 0 | Y10: 0 | Z10: 0
A11: (C1) | B11: Shares Underlying DRs | C11: 0 | D11: 0 | E11: 0 | F11: 0 | G11: 0 | H11: 0 | I11: 0 | J11: 0 | K11: 0 | L11: 0 | M11: 0 | N11: 0 | O11: 0 | P11: 0 | Q11: 0 | R11: 0 | S11: 0 | T11: 0 | U11: 0 | V11: 0 | W11: 0 | X11: 0 | Y11: 0 | Z11: 0
A12: (C2) | B12: Share Held By Employees Trusts | C12: 0 | D12: 0 | E12: 0 | F12: 0 | G12: 0 | H12: 0 | I12: 0 | J12: 0 | K12: 0 | L12: 0 | M12: 0 | N12: 0 | O12: 0 | P12: 0 | Q12: 0 | R12: 0 | S12: 0 | T12: 0 | U12: 0 | V12: 0 | W12: 0 | X12: 0 | Y12: 0 | Z12: 0
B13: Total | C13: 0 | D13: 0 | E13: 0 | F13: 0 | G13: 0 | H13: 0 | I13: 0 | J13: 0 | K13: 0 | L13: 0 | M13: 0 | N13: 0 | O13: 0 | P13: 0 | Q13: 0 | R13: 0 | S13: 0 | T13: 0 | U13: 0 | V13: 0 | W13: 0 | X13: 0 | Y13: 0 | Z13: 0
B14: Total A+B+C1+C2 | C14: 1188 | D14: 3800000 | E14: 0 | F14: 0 | G14: 3800000 | H14: 100 | I14: 3800000 | J14: 0 | K14: 3800000 | L14: 100 | M14: 0 | N14: 3800000 | O14: 100 | P14: 0 | Q14: 100 | R14: 3025 | S14: 100 | T14: 0 | U14: 0 | V14: 0 | W14: 0 | X14: 0 | Y14: 0 | Z14: 3576363

Sheet TABLE-II
A1: ='TABLE-I'!A1:S1 -> ANNA INFRASTRUCTURES LIMITED
A2: ='TABLE-I'!A2:S2 -> SHAREHOLDING PATTERN AS ON 31St March, 2026
A3: Table - II Statement showing shareholding pattern of the Promoter and Promer Group
A5: S.No. | B5: Category & Name of the Shareholders (I) | C5: Entity type Promoter or Promoter group (Promoter group would exclude promoter s) (II) | D5: PAN (III) | E5: No. of share holder (IV) | F5: No. of fully paid up equity shares held (V) | G5: Partly paid- up equity shares held (VI) | H5: No. of shares underlying Depository Receipts (VII) | I5: Total no. shares held (VIII = V+VI+ VII) | J5: Sharehold ing % calculated as per SCRR, 1957 As a % of (A+B+C2) (IX) | K5: Number of Voting Rights held in each class of securities (X) | O5: No. of Shares Underlying Outstanding convertible securities (including Warrants, ESOP etc.) (XI) | P5: Total No of shares on fully diluted basis (including warrants, ESOP, Convertible Securities etc.) (XII)=(VIII+ XI) | Q5: Total shareholding, as a % assuming full conversion of convertible securities (as a percentage of diluted share capital) (XIII) = (VIII)+(XI) as a % of A+B+C2 | R5: Number of Locked in shares (XIV) | T5: Number of Shares pledged (XV) | V5: NonDisposal Undertaking (XVI) | X5: Other encumbrances, if any (XVII) | Z5: Total Number of Shares encumbered (XVIII) = (XV+XVI+XVII) | AB5: Number of equity shares held in dematerialized form (XIX)
K6: No of Voting Rights | N6: Total as a % of Total Voting rights
K7: Class X | L7: Class Y | M7: Tota l | R7: No. (a) | S7: As a % of total Shares held (b) | T7: No. (a) | U7: As a % of total shares held (b) | V7: N o ( a ) | W7: As a % of total shares held (b) | X7: N o. (a) | Y7: As a % of total shares held (b) | Z7: No (a) | AA7: As a % of total shares held (b)
A8: (1) | B8: Indian
A9: (a) | B9: Individual | E9: 23 | F9: 2284588 | G9: 0 | H9: 0 | I9: 2284588 | J9: 60.1207 | K9: 2284588 | L9: 0 | M9: 2284588 | N9: 60.1207 | O9: 0 | P9: 2284588 | Q9: 60.1207 | R9: 0 | S9: 0 | T9: 0 | U9: 0 | V9: 0 | W9: 0 | X9: 0 | Y9: 0 | Z9: 0 | AA9: 0 | AB9: 2284588
B10: Aditi Agarwal | C10: PROMOTER | D10: AOBPA2925D | F10: 72500 | G10: 0 | H10: 0 | I10: 72500 | J10: 1.9079 | K10: 72500 | L10: 0 | M10: 72500 | N10: 1.9079 | O10: 0 | P10: 72500 | Q10: 1.9079 | R10: 0 | S10: 0 | T10: 0 | U10: 0 | AB10: 72500
B11: Akrati Gupta | C11: PROMOTER | D11: AIKPA7076L | F11: 15500 | G11: 0 | H11: 0 | I11: 15500 | J11: 0.4079 | K11: 15500 | L11: 0 | M11: 15500 | N11: 0.4079 | O11: 0 | P11: 15500 | Q11: 0.4079 | R11: 0 | S11: 0 | T11: 0 | U11: 0 | AB11: 15500
B12: Alka Agarwal | C12: PROMOTER | D12: AAXPA0996L | F12: 73228 | G12: 0 | H12: 0 | I12: 73228 | J12: 1.9271 | K12: 73228 | L12: 0 | M12: 73228 | N12: 1.9271 | O12: 0 | P12: 73228 | Q12: 1.9271 | R12: 0 | S12: 0 | T12: 0 | U12: 0 | AB12: 73228
B13: Amit Mittal | C13: PROMOTER | D13: AEEPM7045K | F13: 388200 | G13: 0 | H13: 0 | I13: 388200 | J13: 10.2158 | K13: 388200 | L13: 0 | M13: 388200 | N13: 10.2158 | O13: 0 | P13: 388200 | Q13: 10.2158 | R13: 0 | S13: 0 | T13: 0 | U13: 0 | AB13: 388200
B14: Anil Kumar Agarwal | C14: PROMOTER | D14: ACOPA0004E | F14: 52600 | G14: 0 | H14: 0 | I14: 52600 | J14: 1.3842 | K14: 52600 | L14: 0 | M14: 52600 | N14: 1.3842 | O14: 0 | P14: 52600 | Q14: 1.3842 | R14: 0 | S14: 0 | T14: 0 | U14: 0 | AB14: 52600
B15: Anju Mittal | C15: PROMOTER | D15: AISPM6405D | F15: 73100 | G15: 0 | H15: 0 | I15: 73100 | J15: 1.9237 | K15: 73100 | L15: 0 | M15: 73100 | N15: 1.9237 | O15: 0 | P15: 73100 | Q15: 1.9237 | R15: 0 | S15: 0 | T15: 0 | U15: 0 | AB15: 73100
B16: Ashok Kumar Mittal | C16: PROMOTER | D16: ADDPM5224E | F16: 329910 | G16: 0 | H16: 0 | I16: 329910 | J16: 8.6818 | K16: 329910 | L16: 0 | M16: 329910 | N16: 8.6818 | O16: 0 | P16: 329910 | Q16: 8.6818 | R16: 0 | S16: 0 | T16: 0 | U16: 0 | AB16: 329910
B17: Beena Agarwal | C17: PROMOTER | D17: ABYPA1569R | F17: 24800 | G17: 0 | H17: 0 | I17: 24800 | J17: 0.6526 | K17: 24800 | L17: 0 | M17: 24800 | N17: 0.6526 | O17: 0 | P17: 24800 | Q17: 0.6526 | R17: 0 | S17: 0 | T17: 0 | U17: 0 | AB17: 24800
B18: Krishna Devi Agarwal | C18: PROMOTER | D18: ABUPA8154C | F18: 1100 | G18: 0 | H18: 0 | I18: 1100 | J18: 0.0289 | K18: 1100 | L18: 0 | M18: 1100 | N18: 0.0289 | O18: 0 | P18: 1100 | Q18: 0.0289 | R18: 0 | S18: 0 | T18: 0 | U18: 0 | AB18: 1100
B19: Manish Kumar Garg | C19: PROMOTER | D19: ABGPG0367H | F19: 69600 | G19: 0 | H19: 0 | I19: 69600 | J19: 1.8316 | K19: 69600 | L19: 0 | M19: 69600 | N19: 1.8316 | O19: 0 | P19: 69600 | Q19: 1.8316 | R19: 0 | S19: 0 | T19: 0 | U19: 0 | AB19: 69600
B20: Monika Mittal | C20: PROMOTER | D20: AHJPM0564D | F20: 10000 | G20: 0 | H20: 0 | I20: 10000 | J20: 0.2632 | K20: 10000 | L20: 0 | M20: 10000 | N20: 0.2632 | O20: 0 | P20: 10000 | Q20: 0.2632 | R20: 0 | S20: 0 | T20: 0 | U20: 0 | AB20: 10000
B21: Natasha Agarwal | C21: PROMOTER | D21: AISPM6404C | F21: 10000 | G21: 0 | H21: 0 | I21: 10000 | J21: 0.2632 | K21: 10000 | L21: 0 | M21: 10000 | N21: 0.2632 | O21: 0 | P21: 10000 | Q21: 0.2632 | R21: 0 | S21: 0 | T21: 0 | U21: 0 | AB21: 10000
... B32: Shivam Agarwal | C32: PROMOTER GROUP | D32: ASVPA2469G | F32: 72660 | G32: 0 | H32: 0 | I32: 72660 | J32: 1.9121 | K32: 72660 | L32: 0 | M32: 72660 | N32: 1.9121 | O32: 0 | P32: 72660 | Q32: 1.9121 | R32: 0 | S32: 0 | T32: 0 | U32: 0 | AB32: 72660
A33: (b) | B33: Huf | E33: 6 | F33: 496710 | G33: 0 | H33: 0 | I33: 496710 | J33: 13.0713 | K33: 496710 | L33: 0 | M33: 496710 | N33: 13.0713 | O33: 0 | P33: 496710 | Q33: 13.0713 | R33: 0 | S33: 0 | T33: 0 | U33: 0 | V33: 0 | W33: 0 | X33: 0 | Y33: 0 | Z33: 0 | AA33: 0 | AB33: 496710
B34: Ashok Kumar Mittal | C34: PROMOTER | D34: AACHA9134K | F34: 76000 | G34: 0 | H34: 0 | I34: 76000 | J34: 2 | K34: 76000 | L34: 0 | M34: 76000 | N34: 2 | O34: 0 | P34: 76000 | Q34: 2 | R34: 0 | S34: 0 | T34: 0 | U34: 0 | AB34: 76000
B35: Har Bilas Mittal | C35: PROMOTER | D35: AABHH2222Q | F35: 88500 | G35: 0 | H35: 0 | I35: 88500 | J35: 2.3289 | K35: 88500 | L35: 0 | M35: 88500 | N35: 2.3289 | O35: 0 | P35: 88500 | Q35: 2.3289 | R35: 0 | S35: 0 | T35: 0 | U35: 0 | AB35: 88500
B36: Mittal Seema | C36: PROMOTER | D36: AADHM3992A | F36: 73310 | G36: 0 | H36: 0 | I36: 73310 | J36: 1.9292 | K36: 73310 | L36: 0 | M36: 73310 | N36: 1.9292 | O36: 0 | P36: 73310 | Q36: 1.9292 | R36: 0 | S36: 0 | T36: 0 | U36: 0 | AB36: 73310
B37: Om Prakash Mittal | C37: PROMOTER | D37: AAAHO9796F | F37: 25000 | G37: 0 | H37: 0 | I37: 25000 | J37: 0.6579 | K37: 25000 | L37: 0 | M37: 25000 | N37: 0.6579 | O37: 0 | P37: 25000 | Q37: 0.6579 | R37: 0 | S37: 0 | T37: 0 | U37: 0 | AB37: 25000
B38: Rajeev Mittal | C38: PROMOTER | D38: AAGHR8456P | F38: 149000 | G38: 0 | H38: 0 | I38: 149000 | J38: 3.9211 | K38: 149000 | L38: 0 | M38: 149000 | N38: 3.9211 | O38: 0 | P38: 149000 | Q38: 3.9211 | R38: 0 | S38: 0 | T38: 0 | U38: 0 | AB38: 149000
B39: Rakesh Mittal | C39: PROMOTER | D39: AADHR9068J | F39: 84900 | G39: 0 | H39: 0 | I39: 84900 | J39: 2.2342 | K39: 84900 | L39: 0 | M39: 84900 | N39: 2.2342 | O39: 0 | P39: 84900 | Q39: 2.2342 | R39: 0 | S39: 0 | T39: 0 | U39: 0 | AB39: 84900
A40: (c) | B40: Central Govt /state Govt/ President Of India | E40: 0 | F40: 0 | G40: 0 | H40: 0 | I40: 0 | J40: 0 | K40: 0 | L40: 0 | M40: 0 | N40: 0 | O40: 0 | P40: 0 | Q40: 0 | R40: 0 | S40: 0 | T40: 0 | U40: 0 | V40: 0 | W40: 0 | X40: 0 | Y40: 0 | Z40: 0 | AA40: 0 | AB40: 0
A41: (d) | B41: Financial Inst/banks | E41: 0 | F41: 0 | G41: 0 | H41: 0 | I41: 0 | J41: 0 | K41: 0 | L41: 0 | M41: 0 | N41: 0 | O41: 0 | P41: 0 | Q41: 0 | R41: 0 | S41: 0 | T41: 0 | U41: 0 | V41: 0 | W41: 0 | X41: 0 | Y41: 0 | Z41: 0 | AA41: 0 | AB41: 0
A42: (e) | B42: Any other
B43: Other - Body Corporate | E43: 0 | F43: 0 | G43: 0 | H43: 0 | I43: 0 | J43: 0 | K43: 0 | L43: 0 | M43: 0 | N43: 0 | O43: 0 | P43: 0 | Q43: 0 | R43: 0 | S43: 0 | T43: 0 | U43: 0 | V43: 0 | W43: 0 | X43: 0 | Y43: 0 | Z43: 0 | AA43: 0 | AB43: 0
B44: Sub - Total | E44: 29 | F44: 2781298 | G44: 0 | H44: 0 | I44: 2781298 | J44: 73.1921 | K44: 2781298 | L44: 0 | M44: 2781298 | N44: 73.1921 | O44: 0 | P44: 2781298 | Q44: 73.1921 | R44: 0 | S44: 0 | T44: 0 | U44: 0 | V44: 0 | W44: 0 | X44: 0 | Y44: 0 | Z44: 0 | AA44: 0 | AB44: 2781298
A45: (2) | B45: Foreign
A46: (a) | B46: Individual(nri/ Foriegn Individual ) | E46: 0 | F46: 0 | G46: 0 | H46: 0 | I46: 0 | J46: 0 | K46: 0 | L46: 0 | M46: 0 | N46: 0 | O46: 0 | P46: 0 | Q46: 0 | R46: 0 | S46: 0 | T46: 0 | U46: 0 | V46: 0 | W46: 0 | X46: 0 | Y46: 0 | Z46: 0 | AA46: 0 | AB46: 0
A47: (b) | B47: Government | E47: 0 | F47: 0 | G47: 0 | H47: 0 | I47: 0 | J47: 0 | K47: 0 | L47: 0 | M47: 0 | N47: 0 | O47: 0 | P47: 0 | Q47: 0 | R47: 0 | S47: 0 | T47: 0 | U47: 0 | V47: 0 | W47: 0 | X47: 0 | Y47: 0 | Z47: 0 | AA47: 0 | AB47: 0
A48: (c) | B48: Institutions | E48: 0 | F48: 0 | G48: 0 | H48: 0 | I48: 0 | J48: 0 | K48: 0 | L48: 0 | M48: 0 | N48: 0 | O48: 0 | P48: 0 | Q48: 0 | R48: 0 | S48: 0 | T48: 0 | U48: 0 | V48: 0 | W48: 0 | X48: 0 | Y48: 0 | Z48: 0 | AA48: 0 | AB48: 0
A49: (d) | B49: Foreign Portfolio Investor | E49: 0 | F49: 0 | G49: 0 | H49: 0 | I49: 0 | J49: 0 | K49: 0 | L49: 0 | M49: 0 | N49: 0 | O49: 0 | P49: 0 | Q49: 0 | R49: 0 | S49: 0 | T49: 0 | U49: 0 | V49: 0 | W49: 0 | X49: 0 | Y49: 0 | Z49: 0 | AA49: 0 | AB49: 0
A50: (e) | B50: Any Other
B51: Sub - Total | E51: 0 | F51: 0 | G51: 0 | H51: 0 | I51: 0 | J51: 0 | K51: 0 | L51: 0 | M51: 0 | N51: 0 | O51: 0 | P51: 0 | Q51: 0 | R51: 0 | S51: 0 | T51: 0 | U51: 0 | V51: 0 | W51: 0 | X51: 0 | Y51: 0 | Z51: 0 | AA51: 0 | AB51: 0
...

Sheet TABLE-III
A1: ='TABLE-I'!A1:S1 -> ANNA INFRASTRUCTURES LIMITED
A2: ='TABLE-I'!A2:S2 -> SHAREHOLDING PATTERN AS ON 31St March, 2026
A3: Table - III Statement showing shareholding pattern of the Public shareholding
A5: S.No. | B5: Category & Name of the Shareholders (I) | C5: PAN (II) | D5: No. of share holder (III) | E5: No. of fully paid up equity shares held (IV) | F5: Partly paid- up equity shares held (V) | G5: No. of shares underlying Depository Receipts (VI) | H5: Total no. shares held (VII = IV+V+ VI) | I5: Shareholding % calculated as per SCRR, 1957 As a % of (A+B+C2) (VIII) | J5: Number of Voting Rights held in each class of securities (IX) | N5: No. of Shares Underlying Outstanding convertible securities (including Warrants, ESOP etc.) (X) | O5: Total No of shares on fully diluted basis (including warrants, ESOP, Convertible Securities etc.) (XI)=(VII+ X) | P5: Total shareholding, as a % assuming full conversion of convertible securities (as a percentage of diluted share capital) (XII) | Q5: Number of Locked in shares (XIII) | S5: Number of Shares pledged (XIV) | U5: NonDisposal Undertaking (XV) | W5: Other encumbrances, if any (XVI) | Y5: Total Number of Shares encumbered (XVII) = (XIV+XV+XVI) | AA5: Number of equity shares held in dematerialized form (XVIII) | AB5: Sub-categorization of shares (XIX)
J6: No of Voting Rights | M6: Total as a % of Total Voting rights | AB6: Shareholding (No. of shares) under
J7: Class X | K7: Class Y | L7: Tota l | Q7: No. (a) | R7: As a % of total Shares held (b) | S7: No. (a) | T7: As a % of total shares held (b) | U7: N o ( a ) | V7: As a % of total shares held (b) | W7: N o. (a) | X7: As a % of total shares held (b) | Y7: No (a) | Z7: As a % of total shares held (b) | AB7: Sub- category (i) | AC7: Sub- category (II) | AD7: Sub- category (III)
A8: (1) | B8: Institutions
A9: (a) | B9: Mutual Funds | D9: 0 | E9: 0 | F9: 0 | G9: 0 | H9: 0 | I9: 0 | J9: 0 | K9: 0 | L9: 0 | M9: 0 | N9: 0 | O9: 0 | P9: 0 | Q9: 0 | R9: 0 | S9: 0 | T9: 0 | U9: 0 | V9: 0 | W9: 0 | X9: 0 | Y9: 0 | Z9: 0 | AA9: 0
A10: (b) | B10: Venture Capital Funds | D10: 0 | E10: 0 | F10: 0 | G10: 0 | H10: 0 | I10: 0 | J10: 0 | K10: 0 | L10: 0 | M10: 0 | N10: 0 | O10: 0 | P10: 0 | Q10: 0 | R10: 0 | S10: 0 | T10: 0 | U10: 0 | V10: 0 | W10: 0 | X10: 0 | Y10: 0 | Z10: 0 | AA10: 0
A11: (c) | B11: Alternate Investment Funds | D11: 0 | E11: 0 | F11: 0 | G11: 0 | H11: 0 | I11: 0 | J11: 0 | K11: 0 | L11: 0 | M11: 0 | N11: 0 | O11: 0 | P11: 0 | Q11: 0 | R11: 0 | S11: 0 | T11: 0 | U11: 0 | V11: 0 | W11: 0 | X11: 0 | Y11: 0 | Z11: 0 | AA11: 0
A12: (d) | B12: Banks | D12: 0 | E12: 0 | F12: 0 | G12: 0 | H12: 0 | I12: 0 | J12: 0 | K12: 0 | L12: 0 | M12: 0 | N12: 0 | O12: 0 | P12: 0 | Q12: 0 | R12: 0 | S12: 0 | T12: 0 | U12: 0 | V12: 0 | W12: 0 | X12: 0 | Y12: 0 | Z12: 0 | AA12: 0
A13: (e) | B13: Insurance Companies | D13: 0 | E13: 0 | F13: 0 | G13: 0 | H13: 0 | I13: 0 | J13: 0 | K13: 0 | L13: 0 | M13: 0 | N13: 0 | O13: 0 | P13: 0 | Q13: 0 | R13: 0 | S13: 0 | T13: 0 | U13: 0 | V13: 0 | W13: 0 | X13: 0 | Y13: 0 | Z13: 0 | AA13: 0
A14: (f) | B14: Provident Funds/ Pension Fund | D14: 0 | E14: 0 | F14: 0 | G14: 0 | H14: 0 | I14: 0 | J14: 0 | K14: 0 | L14: 0 | M14: 0 | N14: 0 | O14: 0 | P14: 0 | Q14: 0 | R14: 0 | S14: 0 | T14: 0 | U14: 0 | V14: 0 | W14: 0 | X14: 0 | Y14: 0 | Z14: 0 | AA14: 0
A15: (g) | B15: Asset Reconstruction Companies | D15: 0 | E15: 0 | F15: 0 | G15: 0 | H15: 0 | I15: 0 | J15: 0 | K15: 0 | L15: 0 | M15: 0 | N15: 0 | O15: 0 | P15: 0 | Q15: 0 | R15: 0 | S15: 0 | T15: 0 | U15: 0 | V15: 0 | W15: 0 | X15: 0 | Y15: 0 | Z15: 0 | AA15: 0
A16: (h) | B16: Sovereign Wealth Funds | D16: 0 | E16: 0 | F16: 0 | G16: 0 | H16: 0 | I16: 0 | J16: 0 | K16: 0 | L16: 0 | M16: 0 | N16: 0 | O16: 0 | P16: 0 | Q16: 0 | R16: 0 | S16: 0 | T16: 0 | U16: 0 | V16: 0 | W16: 0 | X16: 0 | Y16: 0 | Z16: 0 | AA16: 0
A17: (i) | B17: NBFCs registered with RBI | D17: 0 | E17: 0 | F17: 0 | G17: 0 | H17: 0 | I17: 0 | J17: 0 | K17: 0 | L17: 0 | M17: 0 | N17: 0 | O17: 0 | P17: 0 | Q17: 0 | R17: 0 | S17: 0 | T17: 0 | U17: 0 | V17: 0 | W17: 0 | X17: 0 | Y17: 0 | Z17: 0 | AA17: 0
A18: (j) | B18: Other Financial Institutions | D18: 0 | E18: 0 | F18: 0 | G18: 0 | H18: 0 | I18: 0 | J18: 0 | K18: 0 | L18: 0 | M18: 0 | N18: 0 | O18: 0 | P18: 0 | Q18: 0 | R18: 0 | S18: 0 | T18: 0 | U18: 0 | V18: 0 | W18: 0 | X18: 0 | Y18: 0 | Z18: 0 | AA18: 0
B19: Sub-total (B)(1) | D19: 0 | E19: 0 | F19: 0 | G19: 0 | H19: 0 | I19: 0 | J19: 0 | K19: 0 | L19: 0 | M19: 0 | N19: 0 | O19: 0 | P19: 0 | Q19: 0 | R19: 0 | S19: 0 | T19: 0 | U19: 0 | V19: 0 | W19: 0 | X19: 0 | Y19: 0 | Z19: 0 | AA19: 0
A20: (2) | B20: Institutions (Foreign)
A21: (a) | B21: Foreign Direct Investment | D21: 0 | E21: 0 | F21: 0 | G21: 0 | H21: 0 | I21: 0 | J21: 0 | K21: 0 | L21: 0 | M21: 0 | N21: 0 | O21: 0 | P21: 0 | Q21: 0 | R21: 0 | S21: 0 | T21: 0 | U21: 0 | V21: 0 | W21: 0 | X21: 0 | Y21: 0 | Z21: 0 | AA21: 0
A22: (b) | B22: Foreign Venture Capital Investors | D22: 0 | E22: 0 | F22: 0 | G22: 0 | H22: 0 | I22: 0 | J22: 0 | K22: 0 | L22: 0 | M22: 0 | N22: 0 | O22: 0 | P22: 0 | Q22: 0 | R22: 0 | S22: 0 | T22: 0 | U22: 0 | V22: 0 | W22: 0 | X22: 0 | Y22: 0 | Z22: 0 | AA22: 0
A23: (c) | B23: Sovereign Wealth Funds | D23: 0 | E23: 0 | F23: 0 | G23: 0 | H23: 0 | I23: 0 | J23: 0 | K23: 0 | L23: 0 | M23: 0 | N23: 0 | O23: 0 | P23: 0 | Q23: 0 | R23: 0 | S23: 0 | T23: 0 | U23: 0 | V23: 0 | W23: 0 | X23: 0 | Y23: 0 | Z23: 0 | AA23: 0
A24: (d) | B24: Foreign Portfolio Investors Category I | D24: 0 | E24: 0 | F24: 0 | G24: 0 | H24: 0 | I24: 0 | J24: 0 | K24: 0 | L24: 0 | M24: 0 | N24: 0 | O24: 0 | P24: 0 | Q24: 0 | R24: 0 | S24: 0 | T24: 0 | U24: 0 | V24: 0 | W24: 0 | X24: 0 | Y24: 0 | Z24: 0 | AA24: 0
A25: (e) | B25: Foreign Portfolio Investors Category II | D25: 0 | E25: 0 | F25: 0 | G25: 0 | H25: 0 | I25: 0 | J25: 0 | K25: 0 | L25: 0 | M25: 0 | N25: 0 | O25: 0 | P25: 0 | Q25: 0 | R25: 0 | S25: 0 | T25: 0 | U25: 0 | V25: 0 | W25: 0 | X25: 0 | Y25: 0 | Z25: 0 | AA25: 0
A26: (f) | B26: Overseas Depositories (holding DRs) (balancing figure) | D26: 0 | E26: 0 | F26: 0 | G26: 0 | H26: 0 | I26: 0 | J26: 0 | K26: 0 | L26: 0 | M26: 0 | N26: 0 | O26: 0 | P26: 0 | Q26: 0 | R26: 0 | S26: 0 | T26: 0 | U26: 0 | V26: 0 | W26: 0 | X26: 0 | Y26: 0 | Z26: 0 | AA26: 0
B27: Sub-Total B(2) | D27: 0 | E27: 0 | F27: 0 | G27: 0 | H27: 0 | I27: 0 | J27: 0 | K27: 0 | L27: 0 | M27: 0 | N27: 0 | O27: 0 | P27: 0 | Q27: 0 | R27: 0 | S27: 0 | T27: 0 | U27: 0 | V27: 0 | W27: 0 | X27: 0 | Y27: 0 | Z27: 0 | AA27: 0
A28: (3) | B28: Central Government / State Government(s)
A29: (a) | B29: Central Government / President of India | D29: 0 | E29: 0 | F29: 0 | G29: 0 | H29: 0 | I29: 0 | J29: 0 | K29: 0 | L29: 0 | M29: 0 | N29: 0 | O29: 0 | P29: 0 | Q29: 0 | R29: 0 | S29: 0 | T29: 0 | U29: 0 | V29: 0 | W29: 0 | X29: 0 | Y29: 0 | Z29: 0 | AA29: 0
A30: (b) | B30: State Government / Governor | D30: 0 | E30: 0 | F30: 0 | G30: 0 | H30: 0 | I30: 0 | J30: 0 | K30: 0 | L30: 0 | M30: 0 | N30: 0 | O30: 0 | P30: 0 | Q30: 0 | R30: 0 | S30: 0 | T30: 0 | U30: 0 | V30: 0 | W30: 0 | X30: 0 | Y30: 0 | Z30: 0 | AA30: 0
A31: (c) | B31: Shareholding by Companies or Bodies Corporate where Central / State Government is a promoter | D31: 0 | E31: 0 | F31: 0 | G31: 0 | H31: 0 | I31: 0 | J31: 0 | K31: 0 | L31: 0 | M31: 0 | N31: 0 | O31: 0 | P31: 0 | Q31: 0 | R31: 0 | S31: 0 | T31: 0 | U31: 0 | V31: 0 | W31: 0 | X31: 0 | Y31: 0 | Z31: 0 | AA31: 0
B32: Sub-Total B(3) | D32: 0 | E32: 0 | F32: 0 | G32: 0 | H32: 0 | I32: 0 | J32: 0 | K32: 0 | L32: 0 | M32: 0 | N32: 0 | O32: 0 | P32: 0 | Q32: 0 | R32: 0 | S32: 0 | T32: 0 | U32: 0 | V32: 0 | W32: 0 | X32: 0 | Y32: 0 | Z32: 0 | AA32: 0
A33: (4) | B33: Non-institutions
A34: (a) | B34: Associate companies / Subsidiaries | D34: 0 | E34: 0 | F34: 0 | G34: 0 | H34: 0 | I34: 0 | J34: 0 | K34: 0 | L34: 0 | M34: 0 | N34: 0 | O34: 0 | P34: 0 | Q34: 0 | R34: 0 | S34: 0 | T34: 0 | U34: 0 | V34: 0 | W34: 0 | X34: 0 | Y34: 0 | Z34: 0 | AA34: 0
A35: (b) | B35: Directors and their relatives (excluding independent directors and nominee directors) | D35: 0 | E35: 0 | F35: 0 | G35: 0 | H35: 0 | I35: 0 | J35: 0 | K35: 0 | L35: 0 | M35: 0 | N35: 0 | O35: 0 | P35: 0 | Q35: 0 | R35: 0 | S35: 0 | T35: 0 | U35: 0 | V35: 0 | W35: 0 | X35: 0 | Y35: 0 | Z35: 0 | AA35: 0
A36: (c) | B36: Key Managerial Personnel | D36: 0 | E36: 0 | F36: 0 | G36: 0 | H36: 0 | I36: 0 | J36: 0 | K36: 0 | L36: 0 | M36: 0 | N36: 0 | O36: 0 | P36: 0 | Q36: 0 | R36: 0 | S36: 0 | T36: 0 | U36: 0 | V36: 0 | W36: 0 | X36: 0 | Y36: 0 | Z36: 0 | AA36: 0
A37: (d) | B37: Relatives of promoters (other than 'immediate relatives' of promoters disclosed under 'Promoter and Promoter Group' category) | D37: 0 | E37: 0 | F37: 0 | G37: 0 | H37: 0 | I37: 0 | J37: 0 | K37: 0 | L37: 0 | M37: 0 | N37: 0 | O37: 0 | P37: 0 | Q37: 0 | R37: 0 | S37: 0 | T37: 0 | U37: 0 | V37: 0 | W37: 0 | X37: 0 | Y37: 0 | Z37: 0 | AA37: 0
A38: (e) | B38: Trusts where any person belonging to 'Promoter and Promoter Group' category is 'trustee', 'beneficiary', or 'author of the trust' | D38: 0 | E38: 0 | F38: 0 | G38: 0 | H38: 0 | I38: 0 | J38: 0 | K38: 0 | L38: 0 | M38: 0 | N38: 0 | O38: 0 | P38: 0 | Q38: 0 | R38: 0 | S38: 0 | T38: 0 | U38: 0 | V38: 0 | W38: 0 | X38: 0 | Y38: 0 | Z38: 0 | AA38: 0
A39: (f) | B39: Investor Education and Protection Fund (IEPF) | D39: 0 | E39: 0 | F39: 0 | G39: 0 | H39: 0 | I39: 0 | J39: 0 | K39: 0 | L39: 0 | M39: 0 | N39: 0 | O39: 0 | P39: 0 | Q39: 0 | R39: 0 | S39: 0 | T39: 0 | U39: 0 | V39: 0 | W39: 0 | X39: 0 | Y39: 0 | Z39: 0 | AA39: 0
A40: (g) | B40: Resident Individuals holding nominal share capital up to Rs. 2 lakhs | D40: 1127 | E40: 603942 | F40: 0 | G40: 0 | H40: 603942 | I40: 15.8932 | J40: 603942 | K40: 0 | L40: 603942 | M40: 15.8932 | N40: 0 | O40: 603942 | P40: 15.8932 | Q40: 0 | R40: 0 | S40: 25 | T40: 0.0041 | U40: 0 | V40: 0 | W40: 0 | X40: 0 | Y40: 0 | Z40: 0 | AA40: 420305
A41: (h) | B41: Resident Individuals holding nominal share capital in excess of Rs. 2 lakhs | D41: 2 | E41: 64000 | F41: 0 | G41: 0 | H41: 64000 | I41: 1.6842 | J41: 64000 | K41: 0 | L41: 64000 | M41: 1.6842 | N41: 0 | O41: 64000 | P41: 1.6842 | Q41: 0 | R41: 0 | S41: 0 | T41: 0 | U41: 0 | V41: 0 | W41: 0 | X41: 0 | Y41: 0 | Z41: 0 | AA41: 24000
...

Sheet TABLE-IV
A1: ='TABLE-I'!A1:S1 -> ANNA INFRASTRUCTURES LIMITED
A2: ='TABLE-I'!A2:S2 -> SHAREHOLDING PATTERN AS ON 31St March, 2026
A3: Table - IV Statement showing shareholding pattern of the Non Promter - Non Public shareholder
A5: S.No. | B5: Category & Name of the Shareholders (I) | C5: PAN (II) | D5: No. of shareholder (III) | E5: No. of fully paid up equity shares held (IV) | F5: Partly paid-up equity shares held (V) | G5: No. of shares underlying Depository Receipts (VI) | H5: Total no. shares held (VII = IV+V+VI) | I5: Shareholding % calculate d as per SCRR, 1957 As a % of (A+B+C2) (VIII) | J5: Number of Voting Rights held in each class of securities (IX) | N5: No. of Shares Underlying Outstanding convertible securities (including Warrants, ESOP, etc.) (X) | O5: Total No of shares on fully diluted basis (including warrants, ESOP, Convertible Securities etc.) (XI)=(VII+X) | P5: Total shareholding, as a % assuming full conversion of convertible securities (as a percentage of diluted share capital) (XII) | Q5: Number of Locked in shares (XIII) | S5: Number of Shares pledged (XIV) | U5: Non-Disposal Undertaking (XV) | W5: Other encumbrances, if any (XVI) | Y5: Total Number of Shares encumber ed (XVII) = (XIV+XV+X VI) | AA5: Number of equity shares held in dematerialized form (XVIII)
J6: No of Voting Rights | M6: Total as a % of Total Voting rights
J7: Class X | K7: Class Y | L7: Total | Q7: No. (a) | R7: As a % of total Shares held (b) | S7: No. (a) | T7: As a % of total shares held (b) | U7: No. (a) | V7: As a % of total shares held (b) | W7: No. (a) | X7: As a % of total shares held (b) | Y7: No (a) | Z7: As a % of total shares held (b)
A8: (1) | B8: Custodian/DR Holder | S8: N.A.
A9: (a) | B9: names | S9: N.A.
A10: (2) | B10: Employees Benefit Trust (under SEBI Based emplyees benefit ) Regulation 2014 | S10: N.A.
A11: (a) | B11: names | S11: N.A.
S12: N.A.
B13: Toral Non-Promoter Non Public shareholding C = C1+C2 | D13: 0 | E13: 0 | F13: 0 | G13: 0 | H13: 0 | I13: 0 | J13: 0 | K13: 0 | L13: 0 | M13: 0 | N13: 0 | O13: 0 | P13: 0 | Q13: 0 | S13: N.A. | AA13: 0

Sheet TABLE-V
A1: ='TABLE-I'!A1:S1 -> ANNA INFRASTRUCTURES LIMITED
A2: ='TABLE-I'!A2:S2 -> SHAREHOLDING PATTERN AS ON 31St March, 2026
A3: Table V- Statement showing details of significant beneficial owners
A5: Sr. No. | B5: Details of the significant beneficial owner (i) | E5: Details of the registered owner (id | H5: Particulars of the shares in which significant beneficial interest is held by the beneficial owner (in) | J5: Date of creation / acquisition of significant beneficial interest (IV)
B6: Name | C6: PAN | D6: Nationality | E6: Name | F6: PAN | G6: Nationality | H6: Number of shares | I6: Shareholding as a % of total no. of shares (calculated as per SCRR, 1957) As a % of (A+B+C2)

Sheet TABLE-VI
A1: ='TABLE-I'!A1:S1 -> ANNA INFRASTRUCTURES LIMITED
A2: ='TABLE-I'!A2:S2 -> SHAREHOLDING PATTERN AS ON 31St March, 2026
A3: Table VI - Statement showing foreign ownership limits
B4: Board approved limits | C4: Limits utilized
A5: As on shareholding date
A6: As on the end of previous 1st quarter
A7: As on the end of previous 2nd quarter
A8: As on the end of previous 3rd quarter
A9: As on the end of previous 4th quarter
